BEGIN:VCALENDAR
VERSION:2.0
PRODID:icalendar-ruby
CALSCALE:GREGORIAN
METHOD:PUBLISH
BEGIN:VEVENT
DTSTAMP:20260422T144254Z
UID:85-365884@fpcdavenport.org
DTSTART:20260502T140000Z
DTEND:20260502T160000Z
CLASS:PUBLIC
CREATED:20260421T135128
DESCRIPTION:
LAST-MODIFIED:20260421T135128
LOCATION:
SUMMARY:Mulching Day!
URL;VALUE=URI:https://fpcdavenport.org/events/mulching-day/2026-05-02
ATTACH;FILENAME=MulchingDay-May2026.png;FMTTYPE=image/png:https://dq5pwpg1q
 8ru0.cloudfront.net/2026/04/21/18/51/28/e7fd0378-e1f6-46af-a63d-de2cebe6b7
 da/MulchingDay-May2026.png
END:VEVENT
END:VCALENDAR
